BEGIN:VCALENDAR
VERSION:2.0
PRODID:-//jEvents 2.0 for Joomla//EN
CALSCALE:GREGORIAN
METHOD:PUBLISH
BEGIN:VEVENT
UID:056a4e1cca25b57b93682d9246586005
CATEGORIES:Running events
CREATED:20250103T104247
SUMMARY:Members Running Day - No REFRESHMENTS
DESCRIPTION;ENCODING=QUOTED-PRINTABLE:\n\nRefreshments NOT available\n
DTSTAMP:20260420T084642Z
DTSTART:20250222T103000Z
SEQUENCE:0
TRANSP:OPAQUE
END:VEVENT
END:VCALENDAR