BEGIN:VCALENDAR
VERSION:2.0
PRODID:-//jEvents 2.0 for Joomla//EN
CALSCALE:GREGORIAN
METHOD:PUBLISH
BEGIN:VEVENT
UID:103b7e072d9d3584304e58b74d2b78b2
CATEGORIES:Papplewick Events at Papplewick Pumping Station
CREATED:20250323T102120
SUMMARY:Papplewick Winter Steam Event
DESCRIPTION;ENCODING=QUOTED-PRINTABLE:
DTSTAMP:20260420T084007Z
DTSTART:20251116T100000Z
DTEND:20251116T160000Z
SEQUENCE:0
TRANSP:OPAQUE
END:VEVENT
END:VCALENDAR