BEGIN:VCALENDAR
VERSION:2.0
PRODID:-//jEvents 2.0 for Joomla//EN
CALSCALE:GREGORIAN
METHOD:PUBLISH
BEGIN:VEVENT
UID:6b525fc482f38226aa1f31d151112999
CATEGORIES:Testing events
CREATED:20181116T141014
SUMMARY:Boiler Testing
DESCRIPTION;ENCODING=QUOTED-PRINTABLE:\n\nBoiler testing 1st Saturday in each month\n
DTSTAMP:20260421T040930Z
DTSTART:20181201T123000Z
DTEND:20181201T160000Z
SEQUENCE:0
TRANSP:OPAQUE
END:VEVENT
END:VCALENDAR