BEGIN:VCALENDAR
VERSION:2.0
PRODID:-//jEvents 2.0 for Joomla//EN
CALSCALE:GREGORIAN
METHOD:PUBLISH
BEGIN:VEVENT
UID:88548a58e67ad437ede98a8be2550a37
CATEGORIES:Running events
CREATED:20190113T071135
SUMMARY:Afternoon Running
LOCATION:Hady
DESCRIPTION;ENCODING=QUOTED-PRINTABLE:
CONTACT:This email address is being protected from spambots. You need JavaScript enabled to view it.
				document.getElementById('cloakac4097692818e528c2b2724352f6d9cc').innerHTML = '';
				var prefix = '&#109;a' + 'i&#108;' + '&#116;o';
				var path = 'hr' + 'ef' + '=';
				var addyac4097692818e528c2b2724352f6d9cc = '&#101;nq&#117;&#105;r&#105;&#101;s' + '&#64;';
				addyac4097692818e528c2b2724352f6d9cc = addyac4097692818e528c2b2724352f6d9cc + 'cdm&#101;s' + '&#46;' + 'c&#111;' + '&#46;' + '&#117;k';
				var addy_textac4097692818e528c2b2724352f6d9cc = '&#101;nq&#117;&#105;r&#105;&#101;s' + '&#64;' + 'cdm&#101;s' + '&#46;' + 'c&#111;' + '&#46;' + '&#117;k';document.getElementById('cloakac4097692818e528c2b2724352f6d9cc').innerHTML += ''+addy_textac4097692818e528c2b2724352f6d9cc+'';
		
DTSTAMP:20260421T065204Z
DTSTART:20190605T120000Z
DTEND:20190605T153000Z
SEQUENCE:0
TRANSP:OPAQUE
END:VEVENT
END:VCALENDAR