BEGIN:VCALENDAR
VERSION:2.0
PRODID:-//jEvents 2.0 for Joomla//EN
CALSCALE:GREGORIAN
METHOD:PUBLISH
BEGIN:VEVENT
UID:b5be21b14e1421de6e17af69efd52bf8
CATEGORIES:Public events
CREATED:20190113T075542
SUMMARY:Santa Specials (Sold out)
LOCATION:Hady
DESCRIPTION;ENCODING=QUOTED-PRINTABLE:
CONTACT:This email address is being protected from spambots. You need JavaScript enabled to view it.
				document.getElementById('cloak522c80f1efece4d498d2d47140036122').innerHTML = '';
				var prefix = '&#109;a' + 'i&#108;' + '&#116;o';
				var path = 'hr' + 'ef' + '=';
				var addy522c80f1efece4d498d2d47140036122 = '&#101;nq&#117;&#105;r&#105;&#101;s' + '&#64;';
				addy522c80f1efece4d498d2d47140036122 = addy522c80f1efece4d498d2d47140036122 + 'cdm&#101;s' + '&#46;' + 'c&#111;' + '&#46;' + '&#117;k';
				var addy_text522c80f1efece4d498d2d47140036122 = '&#101;nq&#117;&#105;r&#105;&#101;s' + '&#64;' + 'cdm&#101;s' + '&#46;' + 'c&#111;' + '&#46;' + '&#117;k';document.getElementById('cloak522c80f1efece4d498d2d47140036122').innerHTML += ''+addy_text522c80f1efece4d498d2d47140036122+'';
		
DTSTAMP:20260421T023648Z
DTSTART:20191208T113000Z
DTEND:20191208T150000Z
SEQUENCE:0
TRANSP:OPAQUE
END:VEVENT
END:VCALENDAR