BEGIN:VCALENDAR
VERSION:2.0
PRODID:-//jEvents 2.0 for Joomla//EN
CALSCALE:GREGORIAN
METHOD:PUBLISH
BEGIN:VEVENT
UID:b9d2b1edd1e907f9791970aa64809ddb
CATEGORIES:Public events
CREATED:20190113T075632
SUMMARY:Santa Specials (Sold out)
LOCATION:Hady
DESCRIPTION;ENCODING=QUOTED-PRINTABLE:
CONTACT:This email address is being protected from spambots. You need JavaScript enabled to view it.
				document.getElementById('cloak79d03f1a9084f94d51b16a82837663d9').innerHTML = '';
				var prefix = '&#109;a' + 'i&#108;' + '&#116;o';
				var path = 'hr' + 'ef' + '=';
				var addy79d03f1a9084f94d51b16a82837663d9 = '&#101;nq&#117;&#105;r&#105;&#101;s' + '&#64;';
				addy79d03f1a9084f94d51b16a82837663d9 = addy79d03f1a9084f94d51b16a82837663d9 + 'cdm&#101;s' + '&#46;' + 'c&#111;' + '&#46;' + '&#117;k';
				var addy_text79d03f1a9084f94d51b16a82837663d9 = '&#101;nq&#117;&#105;r&#105;&#101;s' + '&#64;' + 'cdm&#101;s' + '&#46;' + 'c&#111;' + '&#46;' + '&#117;k';document.getElementById('cloak79d03f1a9084f94d51b16a82837663d9').innerHTML += ''+addy_text79d03f1a9084f94d51b16a82837663d9+'';
		
DTSTAMP:20260421T024108Z
DTSTART:20191215T113000Z
DTEND:20191215T150000Z
SEQUENCE:0
TRANSP:OPAQUE
END:VEVENT
END:VCALENDAR