BEGIN:VCALENDAR
VERSION:2.0
PRODID:-//jEvents 2.0 for Joomla//EN
CALSCALE:GREGORIAN
METHOD:PUBLISH
BEGIN:VEVENT
UID:c8daa77a99751c3497310092d31247e6
CATEGORIES:Public events
CREATED:20190113T075829
SUMMARY:School Holiday Running
LOCATION:Hady
DESCRIPTION;ENCODING=QUOTED-PRINTABLE:
CONTACT:This email address is being protected from spambots. You need JavaScript enabled to view it.
				document.getElementById('cloak6135992c12ba2bbcd17b0f298694122b').innerHTML = '';
				var prefix = '&#109;a' + 'i&#108;' + '&#116;o';
				var path = 'hr' + 'ef' + '=';
				var addy6135992c12ba2bbcd17b0f298694122b = '&#101;nq&#117;&#105;r&#105;&#101;s' + '&#64;';
				addy6135992c12ba2bbcd17b0f298694122b = addy6135992c12ba2bbcd17b0f298694122b + 'cdm&#101;s' + '&#46;' + 'c&#111;' + '&#46;' + '&#117;k';
				var addy_text6135992c12ba2bbcd17b0f298694122b = '&#101;nq&#117;&#105;r&#105;&#101;s' + '&#64;' + 'cdm&#101;s' + '&#46;' + 'c&#111;' + '&#46;' + '&#117;k';document.getElementById('cloak6135992c12ba2bbcd17b0f298694122b').innerHTML += ''+addy_text6135992c12ba2bbcd17b0f298694122b+'';
		
DTSTAMP:20260421T102121Z
DTSTART:20190809T120000Z
DTEND:20190809T153000Z
SEQUENCE:0
TRANSP:OPAQUE
END:VEVENT
END:VCALENDAR