BEGIN:VCALENDAR
VERSION:2.0
PRODID:-//jEvents 2.0 for Joomla//EN
CALSCALE:GREGORIAN
METHOD:PUBLISH
BEGIN:VEVENT
UID:144603a6df3dc0a2bc7eff128eb1b0e6
CATEGORIES:Public events
CREATED:20190113T075918
SUMMARY:School Holiday Running
LOCATION:Hady
DESCRIPTION;ENCODING=QUOTED-PRINTABLE:
CONTACT:This email address is being protected from spambots. You need JavaScript enabled to view it.
				document.getElementById('cloak660603776f0beb3cefdd190230b851c0').innerHTML = '';
				var prefix = '&#109;a' + 'i&#108;' + '&#116;o';
				var path = 'hr' + 'ef' + '=';
				var addy660603776f0beb3cefdd190230b851c0 = '&#101;nq&#117;&#105;r&#105;&#101;s' + '&#64;';
				addy660603776f0beb3cefdd190230b851c0 = addy660603776f0beb3cefdd190230b851c0 + 'cdm&#101;s' + '&#46;' + 'c&#111;' + '&#46;' + '&#117;k';
				var addy_text660603776f0beb3cefdd190230b851c0 = '&#101;nq&#117;&#105;r&#105;&#101;s' + '&#64;' + 'cdm&#101;s' + '&#46;' + 'c&#111;' + '&#46;' + '&#117;k';document.getElementById('cloak660603776f0beb3cefdd190230b851c0').innerHTML += ''+addy_text660603776f0beb3cefdd190230b851c0+'';
		
DTSTAMP:20260421T102249Z
DTSTART:20190823T120000Z
DTEND:20190823T153000Z
SEQUENCE:0
TRANSP:OPAQUE
END:VEVENT
END:VCALENDAR