BEGIN:VCALENDAR
VERSION:2.0
PRODID:-//jEvents 2.0 for Joomla//EN
CALSCALE:GREGORIAN
METHOD:PUBLISH
BEGIN:VEVENT
UID:bca96455aeb061971c041c52ec01bc75
CATEGORIES:Public events
CREATED:19700101T000000
SUMMARY:Coronavirus
DESCRIPTION;ENCODING=QUOTED-PRINTABLE:\n\nSite currently closed due top Coronavirus Restrictions.\n
DTSTAMP:20260420T170531Z
DTSTART:20210101T000100Z
DTEND:20210101T235900Z
SEQUENCE:0
RRULE:FREQ=DAILY;COUNT=100;INTERVAL=1
TRANSP:OPAQUE
END:VEVENT
END:VCALENDAR