BEGIN:VCALENDAR
VERSION:2.0
PRODID:-//jEvents 2.0 for Joomla//EN
CALSCALE:GREGORIAN
METHOD:PUBLISH
BEGIN:VEVENT
UID:75282acc07c6227812a3451eeb8815dc
CATEGORIES:Running events
CREATED:20190113T071239
SUMMARY:Afternoon Running
LOCATION:Hady
DESCRIPTION;ENCODING=QUOTED-PRINTABLE:
CONTACT:This email address is being protected from spambots. You need JavaScript enabled to view it.
				document.getElementById('cloake8c7a5dbf730a9eb39404318fb8cbcd7').innerHTML = '';
				var prefix = '&#109;a' + 'i&#108;' + '&#116;o';
				var path = 'hr' + 'ef' + '=';
				var addye8c7a5dbf730a9eb39404318fb8cbcd7 = '&#101;nq&#117;&#105;r&#105;&#101;s' + '&#64;';
				addye8c7a5dbf730a9eb39404318fb8cbcd7 = addye8c7a5dbf730a9eb39404318fb8cbcd7 + 'cdm&#101;s' + '&#46;' + 'c&#111;' + '&#46;' + '&#117;k';
				var addy_texte8c7a5dbf730a9eb39404318fb8cbcd7 = '&#101;nq&#117;&#105;r&#105;&#101;s' + '&#64;' + 'cdm&#101;s' + '&#46;' + 'c&#111;' + '&#46;' + '&#117;k';document.getElementById('cloake8c7a5dbf730a9eb39404318fb8cbcd7').innerHTML += ''+addy_texte8c7a5dbf730a9eb39404318fb8cbcd7+'';
		
DTSTAMP:20260421T102114Z
DTSTART:20190807T120000Z
DTEND:20190807T153000Z
SEQUENCE:0
TRANSP:OPAQUE
END:VEVENT
END:VCALENDAR