BEGIN:VCALENDAR
VERSION:2.0
PRODID:-//jEvents 2.0 for Joomla//EN
CALSCALE:GREGORIAN
METHOD:PUBLISH
BEGIN:VEVENT
UID:71f39675988a8f84fd5bdcf0527e2aae
CATEGORIES:Public events
CREATED:20190113T080030
SUMMARY:Visiting Drivers Day
DESCRIPTION;ENCODING=QUOTED-PRINTABLE:
DTSTAMP:20260421T095950Z
DTSTART:20190921T120000Z
DTEND:20190921T153000Z
SEQUENCE:0
TRANSP:OPAQUE
END:VEVENT
END:VCALENDAR