BEGIN:VCALENDAR
VERSION:2.0
PRODID:-//jEvents 2.0 for Joomla//EN
CALSCALE:GREGORIAN
METHOD:PUBLISH
BEGIN:VEVENT
UID:ca33beaf317034f1ce2eb9e23b5e1ae6
CATEGORIES:Public events
CREATED:20190113T080214
SUMMARY:2.5 inch Guage Rally
LOCATION:Hady
DESCRIPTION;ENCODING=QUOTED-PRINTABLE:
CONTACT:This email address is being protected from spambots. You need JavaScript enabled to view it.
				document.getElementById('cloakfaf32671120367ff6007989238f1b7b4').innerHTML = '';
				var prefix = '&#109;a' + 'i&#108;' + '&#116;o';
				var path = 'hr' + 'ef' + '=';
				var addyfaf32671120367ff6007989238f1b7b4 = '&#101;nq&#117;&#105;r&#105;&#101;s' + '&#64;';
				addyfaf32671120367ff6007989238f1b7b4 = addyfaf32671120367ff6007989238f1b7b4 + 'cdm&#101;s' + '&#46;' + 'c&#111;' + '&#46;' + '&#117;k';
				var addy_textfaf32671120367ff6007989238f1b7b4 = '&#101;nq&#117;&#105;r&#105;&#101;s' + '&#64;' + 'cdm&#101;s' + '&#46;' + 'c&#111;' + '&#46;' + '&#117;k';document.getElementById('cloakfaf32671120367ff6007989238f1b7b4').innerHTML += ''+addy_textfaf32671120367ff6007989238f1b7b4+'';
		
DTSTAMP:20260421T114859Z
DTSTART;VALUE=DATE:20191006
DTEND;VALUE=DATE:20191007
SEQUENCE:0
TRANSP:OPAQUE
END:VEVENT
END:VCALENDAR