BEGIN:VCALENDAR
VERSION:2.0
PRODID:-//jEvents 2.0 for Joomla//EN
CALSCALE:GREGORIAN
METHOD:PUBLISH
BEGIN:VEVENT
UID:1b55929f6374890fb30a7a98206f222b
CATEGORIES:Running events
CREATED:20230126T121600
SUMMARY:Members Running Day
DESCRIPTION;ENCODING=QUOTED-PRINTABLE:
DTSTAMP:20260420T082103Z
DTSTART:20230405T110000Z
SEQUENCE:0
TRANSP:OPAQUE
END:VEVENT
END:VCALENDAR