BEGIN:VCALENDAR
VERSION:2.0
PRODID:-//jEvents 2.0 for Joomla//EN
CALSCALE:GREGORIAN
METHOD:PUBLISH
BEGIN:VEVENT
UID:62c2d3a6242fab9087de3ba4ebcc9343
CATEGORIES:Papplewick Events at Papplewick Pumping Station
CREATED:20230128T153912
SUMMARY:Papplewick: Model Submarines & Spring Fair
DESCRIPTION;ENCODING=QUOTED-PRINTABLE:
DTSTAMP:20260420T082104Z
DTSTART:20230409T100000Z
DTEND:20230409T160000Z
SEQUENCE:0
TRANSP:OPAQUE
END:VEVENT
END:VCALENDAR