BEGIN:VCALENDAR
VERSION:2.0
PRODID:-//jEvents 2.0 for Joomla//EN
CALSCALE:GREGORIAN
METHOD:PUBLISH
BEGIN:VEVENT
UID:0fabdcc90eb3a8ff740bee2ad7020376
CATEGORIES:Papplewick Events at Papplewick Pumping Station
CREATED:20230128T154554
SUMMARY:Papplewick: Model Submarines & Spring Fair
DESCRIPTION;ENCODING=QUOTED-PRINTABLE:
DTSTAMP:20260420T082742Z
DTSTART:20230410T103000Z
DTEND:20230410T160000Z
SEQUENCE:0
TRANSP:OPAQUE
END:VEVENT
END:VCALENDAR