BEGIN:VCALENDAR
VERSION:2.0
PRODID:-//jEvents 2.0 for Joomla//EN
CALSCALE:GREGORIAN
METHOD:PUBLISH
BEGIN:VEVENT
UID:9af0279aeee3577d3b7341c73d1c35ad
CATEGORIES:Papplewick Events at Papplewick Pumping Station
CREATED:20230129T090715
SUMMARY:Papplewick Classic & Vintage  Vehicles
DESCRIPTION;ENCODING=QUOTED-PRINTABLE:
DTSTAMP:20260420T082801Z
DTSTART:20230430T103000Z
DTEND:20230430T160000Z
SEQUENCE:0
TRANSP:OPAQUE
END:VEVENT
END:VCALENDAR