BEGIN:VCALENDAR
VERSION:2.0
PRODID:-//jEvents 2.0 for Joomla//EN
CALSCALE:GREGORIAN
METHOD:PUBLISH
BEGIN:VEVENT
UID:3033ab6d832608a47f9b8da75e86c9da
CATEGORIES:Papplewick Events at Papplewick Pumping Station
CREATED:20250323T101947
SUMMARY:Papplewick Winter Steam Event
DESCRIPTION;ENCODING=QUOTED-PRINTABLE:
DTSTAMP:20260420T100219Z
DTSTART:20251115T100000Z
DTEND:20251115T160000Z
SEQUENCE:0
TRANSP:OPAQUE
END:VEVENT
END:VCALENDAR