BEGIN:VCALENDAR
VERSION:2.0
PRODID:-//jEvents 2.0 for Joomla//EN
CALSCALE:GREGORIAN
METHOD:PUBLISH
BEGIN:VEVENT
UID:c6189fb96b4f9592aef649aba4c88930
CATEGORIES:Running events
CREATED:20190113T071300
SUMMARY:Afternoon Running
LOCATION:Hady
DESCRIPTION;ENCODING=QUOTED-PRINTABLE:
CONTACT:This email address is being protected from spambots. You need JavaScript enabled to view it.
				document.getElementById('cloakc6258b0dbc9d057a9f9b11201bf4f157').innerHTML = '';
				var prefix = '&#109;a' + 'i&#108;' + '&#116;o';
				var path = 'hr' + 'ef' + '=';
				var addyc6258b0dbc9d057a9f9b11201bf4f157 = '&#101;nq&#117;&#105;r&#105;&#101;s' + '&#64;';
				addyc6258b0dbc9d057a9f9b11201bf4f157 = addyc6258b0dbc9d057a9f9b11201bf4f157 + 'cdm&#101;s' + '&#46;' + 'c&#111;' + '&#46;' + '&#117;k';
				var addy_textc6258b0dbc9d057a9f9b11201bf4f157 = '&#101;nq&#117;&#105;r&#105;&#101;s' + '&#64;' + 'cdm&#101;s' + '&#46;' + 'c&#111;' + '&#46;' + '&#117;k';document.getElementById('cloakc6258b0dbc9d057a9f9b11201bf4f157').innerHTML += ''+addy_textc6258b0dbc9d057a9f9b11201bf4f157+'';
		
DTSTAMP:20260421T083156Z
DTSTART:20190904T120000Z
DTEND:20190904T153000Z
SEQUENCE:0
TRANSP:OPAQUE
END:VEVENT
END:VCALENDAR