BEGIN:VCALENDAR
VERSION:2.0
PRODID:-//jEvents 2.0 for Joomla//EN
CALSCALE:GREGORIAN
METHOD:PUBLISH
BEGIN:VEVENT
UID:16219e5153116d5a5ccf3f062ec8a08f
CATEGORIES:Running events
CREATED:20190113T071330
SUMMARY:Afternoon Running
LOCATION:Hady
DESCRIPTION;ENCODING=QUOTED-PRINTABLE:
CONTACT:This email address is being protected from spambots. You need JavaScript enabled to view it.
				document.getElementById('cloak9f14421f604a00d2ab49e3811db0deff').innerHTML = '';
				var prefix = '&#109;a' + 'i&#108;' + '&#116;o';
				var path = 'hr' + 'ef' + '=';
				var addy9f14421f604a00d2ab49e3811db0deff = '&#101;nq&#117;&#105;r&#105;&#101;s' + '&#64;';
				addy9f14421f604a00d2ab49e3811db0deff = addy9f14421f604a00d2ab49e3811db0deff + 'cdm&#101;s' + '&#46;' + 'c&#111;' + '&#46;' + '&#117;k';
				var addy_text9f14421f604a00d2ab49e3811db0deff = '&#101;nq&#117;&#105;r&#105;&#101;s' + '&#64;' + 'cdm&#101;s' + '&#46;' + 'c&#111;' + '&#46;' + '&#117;k';document.getElementById('cloak9f14421f604a00d2ab49e3811db0deff').innerHTML += ''+addy_text9f14421f604a00d2ab49e3811db0deff+'';
		
DTSTAMP:20260421T112531Z
DTSTART:20191002T120000Z
DTEND:20191002T153000Z
SEQUENCE:0
TRANSP:OPAQUE
END:VEVENT
END:VCALENDAR