BEGIN:VCALENDAR
VERSION:2.0
PRODID:-//jEvents 2.0 for Joomla//EN
CALSCALE:GREGORIAN
METHOD:PUBLISH
BEGIN:VEVENT
UID:a22875553b543774834fef89cf813bcf
CATEGORIES:Running events
CREATED:20190113T071454
SUMMARY:Afternoon Running
LOCATION:Hady
DESCRIPTION;ENCODING=QUOTED-PRINTABLE:
CONTACT:This email address is being protected from spambots. You need JavaScript enabled to view it.
				document.getElementById('cloake885c2b33d68b5b1e212c533ca2c3db8').innerHTML = '';
				var prefix = '&#109;a' + 'i&#108;' + '&#116;o';
				var path = 'hr' + 'ef' + '=';
				var addye885c2b33d68b5b1e212c533ca2c3db8 = '&#101;nq&#117;&#105;r&#105;&#101;s' + '&#64;';
				addye885c2b33d68b5b1e212c533ca2c3db8 = addye885c2b33d68b5b1e212c533ca2c3db8 + 'cdm&#101;s' + '&#46;' + 'c&#111;' + '&#46;' + '&#117;k';
				var addy_texte885c2b33d68b5b1e212c533ca2c3db8 = '&#101;nq&#117;&#105;r&#105;&#101;s' + '&#64;' + 'cdm&#101;s' + '&#46;' + 'c&#111;' + '&#46;' + '&#117;k';document.getElementById('cloake885c2b33d68b5b1e212c533ca2c3db8').innerHTML += ''+addy_texte885c2b33d68b5b1e212c533ca2c3db8+'';
		
DTSTAMP:20260421T052537Z
DTSTART:20190501T120000Z
DTEND:20190501T153000Z
SEQUENCE:0
TRANSP:OPAQUE
END:VEVENT
END:VCALENDAR