BEGIN:VCALENDAR
VERSION:2.0
PRODID:-//jEvents 2.0 for Joomla//EN
CALSCALE:GREGORIAN
METHOD:PUBLISH
BEGIN:VEVENT
UID:6a543616d4788d9cae37ef6b056cb1d7
CATEGORIES:Running events
CREATED:20190113T071534
SUMMARY:Afternoon Running
LOCATION:Hady
DESCRIPTION;ENCODING=QUOTED-PRINTABLE:
CONTACT:This email address is being protected from spambots. You need JavaScript enabled to view it.
				document.getElementById('cloakeb9d02c4d0d4be060da80af20dca3fbe').innerHTML = '';
				var prefix = '&#109;a' + 'i&#108;' + '&#116;o';
				var path = 'hr' + 'ef' + '=';
				var addyeb9d02c4d0d4be060da80af20dca3fbe = '&#101;nq&#117;&#105;r&#105;&#101;s' + '&#64;';
				addyeb9d02c4d0d4be060da80af20dca3fbe = addyeb9d02c4d0d4be060da80af20dca3fbe + 'cdm&#101;s' + '&#46;' + 'c&#111;' + '&#46;' + '&#117;k';
				var addy_texteb9d02c4d0d4be060da80af20dca3fbe = '&#101;nq&#117;&#105;r&#105;&#101;s' + '&#64;' + 'cdm&#101;s' + '&#46;' + 'c&#111;' + '&#46;' + '&#117;k';document.getElementById('cloakeb9d02c4d0d4be060da80af20dca3fbe').innerHTML += ''+addy_texteb9d02c4d0d4be060da80af20dca3fbe+'';
		
DTSTAMP:20260421T024108Z
DTSTART:20191204T120000Z
DTEND:20191204T153000Z
SEQUENCE:0
TRANSP:OPAQUE
END:VEVENT
END:VCALENDAR