BEGIN:VCALENDAR
VERSION:2.0
PRODID:-//jEvents 2.0 for Joomla//EN
CALSCALE:GREGORIAN
METHOD:PUBLISH
BEGIN:VEVENT
UID:c970b38271e279165e4b1c125097d3a6
CATEGORIES:Meetings
CREATED:20190113T071633
SUMMARY:Annual General Meeting
LOCATION:Hady
DESCRIPTION;ENCODING=QUOTED-PRINTABLE:
CONTACT:This email address is being protected from spambots. You need JavaScript enabled to view it.
				document.getElementById('cloak93f069164a835009d3d6f8a8ac328f7c').innerHTML = '';
				var prefix = '&#109;a' + 'i&#108;' + '&#116;o';
				var path = 'hr' + 'ef' + '=';
				var addy93f069164a835009d3d6f8a8ac328f7c = 'ch&#97;&#105;r' + '&#64;';
				addy93f069164a835009d3d6f8a8ac328f7c = addy93f069164a835009d3d6f8a8ac328f7c + 'cdm&#101;s' + '&#46;' + 'c&#111;' + '&#46;' + '&#117;k';
				var addy_text93f069164a835009d3d6f8a8ac328f7c = 'ch&#97;&#105;r' + '&#64;' + 'cdm&#101;s' + '&#46;' + 'c&#111;' + '&#46;' + '&#117;k';document.getElementById('cloak93f069164a835009d3d6f8a8ac328f7c').innerHTML += ''+addy_text93f069164a835009d3d6f8a8ac328f7c+'';
		
DTSTAMP:20260421T064133Z
DTSTART;VALUE=DATE:20190319
DTEND;VALUE=DATE:20190320
SEQUENCE:0
TRANSP:OPAQUE
END:VEVENT
END:VCALENDAR