BEGIN:VCALENDAR
VERSION:2.0
PRODID:-//jEvents 2.0 for Joomla//EN
CALSCALE:GREGORIAN
METHOD:PUBLISH
BEGIN:VEVENT
UID:4f8af0942e48a0bf15ba6fe256d1aad9
CATEGORIES:Public events
CREATED:20181116T141222
SUMMARY:Santa Specials
DESCRIPTION;ENCODING=QUOTED-PRINTABLE:\n\nPre purchased ticket only, available from 2nd September Steaming onward
 s\n
DTSTAMP:20260421T041551Z
DTSTART:20181216T112000Z
DTEND:20181216T150000Z
SEQUENCE:0
TRANSP:OPAQUE
END:VEVENT
END:VCALENDAR