BEGIN:VCALENDAR
VERSION:2.0
PRODID:-//jEvents 2.0 for Joomla//EN
CALSCALE:GREGORIAN
METHOD:PUBLISH
BEGIN:VEVENT
UID:447b03ecc21b20f64c40f2d915e450eb
CATEGORIES:Public events
CREATED:20181116T141304
SUMMARY:Santa Specials
DESCRIPTION;ENCODING=QUOTED-PRINTABLE:<p><strong>Pre purchased ticket only, available from 2nd September Steaming
  onwards</strong></p>
DTSTAMP:20260421T041409Z
DTSTART:20181209T112000Z
DTEND:20181209T150000Z
SEQUENCE:0
TRANSP:OPAQUE
END:VEVENT
END:VCALENDAR