BEGIN:VCALENDAR
VERSION:2.0
PRODID:-//jEvents 2.0 for Joomla//EN
CALSCALE:GREGORIAN
METHOD:PUBLISH
BEGIN:VEVENT
UID:325423175890ef1cef66aa1d975fc9ce
CATEGORIES:Testing events
CREATED:20190113T072055
SUMMARY:Boiler Test Day
LOCATION:Hady
DESCRIPTION;ENCODING=QUOTED-PRINTABLE:
CONTACT:This email address is being protected from spambots. You need JavaScript enabled to view it.
				document.getElementById('cloaka356448df6e25289204b538506a7d71a').innerHTML = '';
				var prefix = '&#109;a' + 'i&#108;' + '&#116;o';
				var path = 'hr' + 'ef' + '=';
				var addya356448df6e25289204b538506a7d71a = '&#101;nq&#117;&#105;r&#105;&#101;s' + '&#64;';
				addya356448df6e25289204b538506a7d71a = addya356448df6e25289204b538506a7d71a + 'cdm&#101;s' + '&#46;' + 'c&#111;' + '&#46;' + '&#117;k';
				var addy_texta356448df6e25289204b538506a7d71a = '&#101;nq&#117;&#105;r&#105;&#101;s' + '&#64;' + 'cdm&#101;s' + '&#46;' + 'c&#111;' + '&#46;' + '&#117;k';document.getElementById('cloaka356448df6e25289204b538506a7d71a').innerHTML += ''+addy_texta356448df6e25289204b538506a7d71a+'';
		
DTSTAMP:20260421T100326Z
DTSTART:20190907T100000Z
DTEND:20190907T170000Z
SEQUENCE:0
TRANSP:OPAQUE
END:VEVENT
END:VCALENDAR