BEGIN:VCALENDAR
VERSION:2.0
PRODID:-//jEvents 2.0 for Joomla//EN
CALSCALE:GREGORIAN
METHOD:PUBLISH
BEGIN:VEVENT
UID:4d5e4323a569e95924b53ebedee9a7ff
CATEGORIES:Testing events
CREATED:20190113T072637
SUMMARY:Boiler Test Day
LOCATION:Hady
DESCRIPTION;ENCODING=QUOTED-PRINTABLE:
CONTACT:This email address is being protected from spambots. You need JavaScript enabled to view it.
				document.getElementById('cloak4449114ed73b495587e03babfffee292').innerHTML = '';
				var prefix = '&#109;a' + 'i&#108;' + '&#116;o';
				var path = 'hr' + 'ef' + '=';
				var addy4449114ed73b495587e03babfffee292 = '&#101;nq&#117;&#105;r&#105;&#101;s' + '&#64;';
				addy4449114ed73b495587e03babfffee292 = addy4449114ed73b495587e03babfffee292 + 'cdm&#101;s' + '&#46;' + 'c&#111;' + '&#46;' + '&#117;k';
				var addy_text4449114ed73b495587e03babfffee292 = '&#101;nq&#117;&#105;r&#105;&#101;s' + '&#64;' + 'cdm&#101;s' + '&#46;' + 'c&#111;' + '&#46;' + '&#117;k';document.getElementById('cloak4449114ed73b495587e03babfffee292').innerHTML += ''+addy_text4449114ed73b495587e03babfffee292+'';
		
DTSTAMP:20260421T124751Z
DTSTART:20191005T100000Z
DTEND:20191005T170000Z
SEQUENCE:0
TRANSP:OPAQUE
END:VEVENT
END:VCALENDAR