BEGIN:VCALENDAR
VERSION:2.0
PRODID:-//jEvents 2.0 for Joomla//EN
CALSCALE:GREGORIAN
METHOD:PUBLISH
BEGIN:VEVENT
UID:634a4ea68a14dc84b4afecb30ece323e
CATEGORIES:Testing events
CREATED:20190113T072656
SUMMARY:Boiler Test Day
LOCATION:Hady
DESCRIPTION;ENCODING=QUOTED-PRINTABLE:
CONTACT:This email address is being protected from spambots. You need JavaScript enabled to view it.
				document.getElementById('cloakcfa5c033c1bbbc4b27134b98e155c87c').innerHTML = '';
				var prefix = '&#109;a' + 'i&#108;' + '&#116;o';
				var path = 'hr' + 'ef' + '=';
				var addycfa5c033c1bbbc4b27134b98e155c87c = '&#101;nq&#117;&#105;r&#105;&#101;s' + '&#64;';
				addycfa5c033c1bbbc4b27134b98e155c87c = addycfa5c033c1bbbc4b27134b98e155c87c + 'cdm&#101;s' + '&#46;' + 'c&#111;' + '&#46;' + '&#117;k';
				var addy_textcfa5c033c1bbbc4b27134b98e155c87c = '&#101;nq&#117;&#105;r&#105;&#101;s' + '&#64;' + 'cdm&#101;s' + '&#46;' + 'c&#111;' + '&#46;' + '&#117;k';document.getElementById('cloakcfa5c033c1bbbc4b27134b98e155c87c').innerHTML += ''+addy_textcfa5c033c1bbbc4b27134b98e155c87c+'';
		
DTSTAMP:20260421T144814Z
DTSTART:20191102T100000Z
DTEND:20191102T170000Z
SEQUENCE:0
TRANSP:OPAQUE
END:VEVENT
END:VCALENDAR