BEGIN:VCALENDAR
VERSION:2.0
PRODID:-//jEvents 2.0 for Joomla//EN
CALSCALE:GREGORIAN
METHOD:PUBLISH
BEGIN:VEVENT
UID:97c7e828151fa2c3040845360deb246d
CATEGORIES:Testing events
CREATED:20190113T072713
SUMMARY:Boiler Test Day
LOCATION:Hady
DESCRIPTION;ENCODING=QUOTED-PRINTABLE:
CONTACT:This email address is being protected from spambots. You need JavaScript enabled to view it.
				document.getElementById('cloak8f95593c1dbabfbe93fa6d5d13a26d8d').innerHTML = '';
				var prefix = '&#109;a' + 'i&#108;' + '&#116;o';
				var path = 'hr' + 'ef' + '=';
				var addy8f95593c1dbabfbe93fa6d5d13a26d8d = '&#101;nq&#117;&#105;r&#105;&#101;s' + '&#64;';
				addy8f95593c1dbabfbe93fa6d5d13a26d8d = addy8f95593c1dbabfbe93fa6d5d13a26d8d + 'cdm&#101;s' + '&#46;' + 'c&#111;' + '&#46;' + '&#117;k';
				var addy_text8f95593c1dbabfbe93fa6d5d13a26d8d = '&#101;nq&#117;&#105;r&#105;&#101;s' + '&#64;' + 'cdm&#101;s' + '&#46;' + 'c&#111;' + '&#46;' + '&#117;k';document.getElementById('cloak8f95593c1dbabfbe93fa6d5d13a26d8d').innerHTML += ''+addy_text8f95593c1dbabfbe93fa6d5d13a26d8d+'';
		
DTSTAMP:20260421T063640Z
DTSTART:20190504T100000Z
DTEND:20190504T170000Z
SEQUENCE:0
TRANSP:OPAQUE
END:VEVENT
END:VCALENDAR