BEGIN:VCALENDAR
VERSION:2.0
PRODID:-//jEvents 2.0 for Joomla//EN
CALSCALE:GREGORIAN
METHOD:PUBLISH
BEGIN:VEVENT
UID:4917d89770092007f28c00fa6ab31699
CATEGORIES:Testing events
CREATED:20190113T072738
SUMMARY:Boiler Test Day
LOCATION:Hady
DESCRIPTION;ENCODING=QUOTED-PRINTABLE:
CONTACT:This email address is being protected from spambots. You need JavaScript enabled to view it.
				document.getElementById('cloak1012fee85e25bbd0ff305b964fce3d54').innerHTML = '';
				var prefix = '&#109;a' + 'i&#108;' + '&#116;o';
				var path = 'hr' + 'ef' + '=';
				var addy1012fee85e25bbd0ff305b964fce3d54 = '&#101;nq&#117;&#105;r&#105;&#101;s' + '&#64;';
				addy1012fee85e25bbd0ff305b964fce3d54 = addy1012fee85e25bbd0ff305b964fce3d54 + 'cdm&#101;s' + '&#46;' + 'c&#111;' + '&#46;' + '&#117;k';
				var addy_text1012fee85e25bbd0ff305b964fce3d54 = '&#101;nq&#117;&#105;r&#105;&#101;s' + '&#64;' + 'cdm&#101;s' + '&#46;' + 'c&#111;' + '&#46;' + '&#117;k';document.getElementById('cloak1012fee85e25bbd0ff305b964fce3d54').innerHTML += ''+addy_text1012fee85e25bbd0ff305b964fce3d54+'';
		
DTSTAMP:20260421T063447Z
DTSTART:20190601T100000Z
DTEND:20190601T170000Z
SEQUENCE:0
TRANSP:OPAQUE
END:VEVENT
END:VCALENDAR