BEGIN:VCALENDAR
VERSION:2.0
PRODID:-//jEvents 2.0 for Joomla//EN
CALSCALE:GREGORIAN
METHOD:PUBLISH
BEGIN:VEVENT
UID:5c7f8d14a76b751c411f48c863c5f5ce
CATEGORIES:Testing events
CREATED:20190113T072754
SUMMARY:Boiler Test Day
LOCATION:Hady
DESCRIPTION;ENCODING=QUOTED-PRINTABLE:
CONTACT:This email address is being protected from spambots. You need JavaScript enabled to view it.
				document.getElementById('cloakb147692b4a274b891e655b1799ee7fa1').innerHTML = '';
				var prefix = '&#109;a' + 'i&#108;' + '&#116;o';
				var path = 'hr' + 'ef' + '=';
				var addyb147692b4a274b891e655b1799ee7fa1 = '&#101;nq&#117;&#105;r&#105;&#101;s' + '&#64;';
				addyb147692b4a274b891e655b1799ee7fa1 = addyb147692b4a274b891e655b1799ee7fa1 + 'cdm&#101;s' + '&#46;' + 'c&#111;' + '&#46;' + '&#117;k';
				var addy_textb147692b4a274b891e655b1799ee7fa1 = '&#101;nq&#117;&#105;r&#105;&#101;s' + '&#64;' + 'cdm&#101;s' + '&#46;' + 'c&#111;' + '&#46;' + '&#117;k';document.getElementById('cloakb147692b4a274b891e655b1799ee7fa1').innerHTML += ''+addy_textb147692b4a274b891e655b1799ee7fa1+'';
		
DTSTAMP:20260421T085007Z
DTSTART:20190706T100000Z
DTEND:20190706T170000Z
SEQUENCE:0
TRANSP:OPAQUE
END:VEVENT
END:VCALENDAR