BEGIN:VCALENDAR
VERSION:2.0
PRODID:-//jEvents 2.0 for Joomla//EN
CALSCALE:GREGORIAN
METHOD:PUBLISH
BEGIN:VEVENT
UID:83f1a981344b054d28ed38ce526efe36
CATEGORIES:Testing events
CREATED:20190113T072811
SUMMARY:Boiler Test Day
LOCATION:Hady
DESCRIPTION;ENCODING=QUOTED-PRINTABLE:
CONTACT:This email address is being protected from spambots. You need JavaScript enabled to view it.
				document.getElementById('cloak10cedc59388a83779c799fb2299dd331').innerHTML = '';
				var prefix = '&#109;a' + 'i&#108;' + '&#116;o';
				var path = 'hr' + 'ef' + '=';
				var addy10cedc59388a83779c799fb2299dd331 = '&#101;nq&#117;&#105;r&#105;&#101;s' + '&#64;';
				addy10cedc59388a83779c799fb2299dd331 = addy10cedc59388a83779c799fb2299dd331 + 'cdm&#101;s' + '&#46;' + 'c&#111;' + '&#46;' + '&#117;k';
				var addy_text10cedc59388a83779c799fb2299dd331 = '&#101;nq&#117;&#105;r&#105;&#101;s' + '&#64;' + 'cdm&#101;s' + '&#46;' + 'c&#111;' + '&#46;' + '&#117;k';document.getElementById('cloak10cedc59388a83779c799fb2299dd331').innerHTML += ''+addy_text10cedc59388a83779c799fb2299dd331+'';
		
DTSTAMP:20260421T102013Z
DTSTART:20190803T100000Z
DTEND:20190803T170000Z
SEQUENCE:0
TRANSP:OPAQUE
END:VEVENT
END:VCALENDAR