BEGIN:VCALENDAR
VERSION:2.0
PRODID:-//jEvents 2.0 for Joomla//EN
CALSCALE:GREGORIAN
METHOD:PUBLISH
BEGIN:VEVENT
UID:4a70d6c8a91e1d5561afded89f92dcb4
CATEGORIES:Meetings
CREATED:20181116T141812
SUMMARY:Bring & Buy, Members Only
DESCRIPTION;ENCODING=QUOTED-PRINTABLE:
DTSTAMP:20260421T025626Z
DTSTART:20181218T080000Z
DTEND:20181218T170000Z
SEQUENCE:0
TRANSP:OPAQUE
END:VEVENT
END:VCALENDAR