BEGIN:VCALENDAR
VERSION:2.0
PRODID:-//jEvents 2.0 for Joomla//EN
CALSCALE:GREGORIAN
METHOD:PUBLISH
BEGIN:VEVENT
UID:a9b5c2f3717478de8335bf4ffa45018f
CATEGORIES:Running events
CREATED:20190113T070801
SUMMARY:Afternoon Running
LOCATION:Hady
DESCRIPTION;ENCODING=QUOTED-PRINTABLE:
CONTACT:This email address is being protected from spambots. You need JavaScript enabled to view it.
				document.getElementById('cloakc855ef3d0770f42a511ccae39ef0361d').innerHTML = '';
				var prefix = '&#109;a' + 'i&#108;' + '&#116;o';
				var path = 'hr' + 'ef' + '=';
				var addyc855ef3d0770f42a511ccae39ef0361d = '&#101;nq&#117;&#105;r&#105;&#101;s' + '&#64;';
				addyc855ef3d0770f42a511ccae39ef0361d = addyc855ef3d0770f42a511ccae39ef0361d + 'cdm&#101;s' + '&#46;' + 'c&#111;' + '&#46;' + '&#117;k';
				var addy_textc855ef3d0770f42a511ccae39ef0361d = '&#101;nq&#117;&#105;r&#105;&#101;s' + '&#64;' + 'cdm&#101;s' + '&#46;' + 'c&#111;' + '&#46;' + '&#117;k';document.getElementById('cloakc855ef3d0770f42a511ccae39ef0361d').innerHTML += ''+addy_textc855ef3d0770f42a511ccae39ef0361d+'';
		
DTSTAMP:20260421T011910Z
DTSTART:20190102T120000Z
DTEND:20190102T153000Z
SEQUENCE:0
TRANSP:OPAQUE
END:VEVENT
END:VCALENDAR