BEGIN:VCALENDAR
VERSION:2.0
PRODID:-//jEvents 2.0 for Joomla//EN
CALSCALE:GREGORIAN
METHOD:PUBLISH
BEGIN:VEVENT
UID:cc439ce98e9a28316394f1d262bad6f7
CATEGORIES:Running events
CREATED:20190113T070850
SUMMARY:Afternoon Running
LOCATION:Hady
DESCRIPTION;ENCODING=QUOTED-PRINTABLE:
CONTACT:This email address is being protected from spambots. You need JavaScript enabled to view it.
				document.getElementById('cloak73ff96f0b74ae11b2f8df21b5de6d189').innerHTML = '';
				var prefix = '&#109;a' + 'i&#108;' + '&#116;o';
				var path = 'hr' + 'ef' + '=';
				var addy73ff96f0b74ae11b2f8df21b5de6d189 = '&#101;nq&#117;&#105;r&#105;&#101;s' + '&#64;';
				addy73ff96f0b74ae11b2f8df21b5de6d189 = addy73ff96f0b74ae11b2f8df21b5de6d189 + 'cdm&#101;s' + '&#46;' + 'c&#111;' + '&#46;' + '&#117;k';
				var addy_text73ff96f0b74ae11b2f8df21b5de6d189 = '&#101;nq&#117;&#105;r&#105;&#101;s' + '&#64;' + 'cdm&#101;s' + '&#46;' + 'c&#111;' + '&#46;' + '&#117;k';document.getElementById('cloak73ff96f0b74ae11b2f8df21b5de6d189').innerHTML += ''+addy_text73ff96f0b74ae11b2f8df21b5de6d189+'';
		
DTSTAMP:20260421T060117Z
DTSTART:20190206T120000Z
DTEND:20190206T153000Z
SEQUENCE:0
TRANSP:OPAQUE
END:VEVENT
END:VCALENDAR