BEGIN:VCALENDAR
VERSION:2.0
PRODID:-//jEvents 2.0 for Joomla//EN
CALSCALE:GREGORIAN
METHOD:PUBLISH
BEGIN:VEVENT
UID:b4d4537357b5e0bffbcda988788dd224
CATEGORIES:Public events
CREATED:20190113T073753
SUMMARY:Diesel Day (Mike Holmes)
LOCATION:Hady
DESCRIPTION;ENCODING=QUOTED-PRINTABLE:
CONTACT:This email address is being protected from spambots. You need JavaScript enabled to view it.
				document.getElementById('cloak580e1ba0a2da1342d688415b46484027').innerHTML = '';
				var prefix = '&#109;a' + 'i&#108;' + '&#116;o';
				var path = 'hr' + 'ef' + '=';
				var addy580e1ba0a2da1342d688415b46484027 = '&#101;nq&#117;&#105;r&#105;&#101;s' + '&#64;';
				addy580e1ba0a2da1342d688415b46484027 = addy580e1ba0a2da1342d688415b46484027 + 'cdm&#101;s' + '&#46;' + 'c&#111;' + '&#46;' + '&#117;k';
				var addy_text580e1ba0a2da1342d688415b46484027 = '&#101;nq&#117;&#105;r&#105;&#101;s' + '&#64;' + 'cdm&#101;s' + '&#46;' + 'c&#111;' + '&#46;' + '&#117;k';document.getElementById('cloak580e1ba0a2da1342d688415b46484027').innerHTML += ''+addy_text580e1ba0a2da1342d688415b46484027+'';
		
DTSTAMP:20260421T102249Z
DTSTART:20190810T120000Z
DTEND:20190810T153000Z
SEQUENCE:0
TRANSP:OPAQUE
END:VEVENT
END:VCALENDAR