BEGIN:VCALENDAR
VERSION:2.0
PRODID:-//jEvents 2.0 for Joomla//EN
CALSCALE:GREGORIAN
METHOD:PUBLISH
BEGIN:VEVENT
UID:1283501b979d33d8b33c9c929ea7f551
CATEGORIES:Public events
CREATED:20190113T073918
SUMMARY:Doncaster Exhibition
LOCATION:Doncaster
DESCRIPTION;ENCODING=QUOTED-PRINTABLE:
CONTACT:This email address is being protected from spambots. You need JavaScript enabled to view it.
				document.getElementById('cloak355f7fe2637d1f4ee835f7274ab8bc1e').innerHTML = '';
				var prefix = '&#109;a' + 'i&#108;' + '&#116;o';
				var path = 'hr' + 'ef' + '=';
				var addy355f7fe2637d1f4ee835f7274ab8bc1e = '&#101;nq&#117;&#105;r&#105;&#101;s' + '&#64;';
				addy355f7fe2637d1f4ee835f7274ab8bc1e = addy355f7fe2637d1f4ee835f7274ab8bc1e + 'cdm&#101;s' + '&#46;' + 'c&#111;' + '&#46;' + '&#117;k';
				var addy_text355f7fe2637d1f4ee835f7274ab8bc1e = '&#101;nq&#117;&#105;r&#105;&#101;s' + '&#64;' + 'cdm&#101;s' + '&#46;' + 'c&#111;' + '&#46;' + '&#117;k';document.getElementById('cloak355f7fe2637d1f4ee835f7274ab8bc1e').innerHTML += ''+addy_text355f7fe2637d1f4ee835f7274ab8bc1e+'';
		
DTSTAMP:20260421T084710Z
DTSTART;VALUE=DATE:20190510
DTEND;VALUE=DATE:20190513
SEQUENCE:0
TRANSP:OPAQUE
END:VEVENT
END:VCALENDAR