BEGIN:VCALENDAR
VERSION:2.0
PRODID:-//jEvents 2.0 for Joomla//EN
CALSCALE:GREGORIAN
METHOD:PUBLISH
BEGIN:VEVENT
UID:ce09fa4cab058dadf3ccd2b6ec4d2ad9
CATEGORIES:Running events
CREATED:20190113T070918
SUMMARY:Afternoon Running
LOCATION:Hady
DESCRIPTION;ENCODING=QUOTED-PRINTABLE:
CONTACT:This email address is being protected from spambots. You need JavaScript enabled to view it.
				document.getElementById('cloak7f352193d4710f5998ec48631926a45b').innerHTML = '';
				var prefix = '&#109;a' + 'i&#108;' + '&#116;o';
				var path = 'hr' + 'ef' + '=';
				var addy7f352193d4710f5998ec48631926a45b = '&#101;nq&#117;&#105;r&#105;&#101;s' + '&#64;';
				addy7f352193d4710f5998ec48631926a45b = addy7f352193d4710f5998ec48631926a45b + 'cdm&#101;s' + '&#46;' + 'c&#111;' + '&#46;' + '&#117;k';
				var addy_text7f352193d4710f5998ec48631926a45b = '&#101;nq&#117;&#105;r&#105;&#101;s' + '&#64;' + 'cdm&#101;s' + '&#46;' + 'c&#111;' + '&#46;' + '&#117;k';document.getElementById('cloak7f352193d4710f5998ec48631926a45b').innerHTML += ''+addy_text7f352193d4710f5998ec48631926a45b+'';
		
DTSTAMP:20260421T063255Z
DTSTART:20190306T120000Z
DTEND:20190306T153000Z
SEQUENCE:0
TRANSP:OPAQUE
END:VEVENT
END:VCALENDAR