BEGIN:VCALENDAR
VERSION:2.0
PRODID:-//jEvents 2.0 for Joomla//EN
CALSCALE:GREGORIAN
METHOD:PUBLISH
BEGIN:VEVENT
UID:35bb2f6d771de52d0dbdbe4835ffde82
CATEGORIES:Public events
CREATED:20190113T074522
SUMMARY:Open weekend
LOCATION:Hady
DESCRIPTION;ENCODING=QUOTED-PRINTABLE:
CONTACT:This email address is being protected from spambots. You need JavaScript enabled to view it.
				document.getElementById('cloakce20c3fdf06230dd100d936301d402ac').innerHTML = '';
				var prefix = '&#109;a' + 'i&#108;' + '&#116;o';
				var path = 'hr' + 'ef' + '=';
				var addyce20c3fdf06230dd100d936301d402ac = '&#101;nq&#117;&#105;r&#105;&#101;s' + '&#64;';
				addyce20c3fdf06230dd100d936301d402ac = addyce20c3fdf06230dd100d936301d402ac + 'cdm&#101;s' + '&#46;' + 'c&#111;' + '&#46;' + '&#117;k';
				var addy_textce20c3fdf06230dd100d936301d402ac = '&#101;nq&#117;&#105;r&#105;&#101;s' + '&#64;' + 'cdm&#101;s' + '&#46;' + 'c&#111;' + '&#46;' + '&#117;k';document.getElementById('cloakce20c3fdf06230dd100d936301d402ac').innerHTML += ''+addy_textce20c3fdf06230dd100d936301d402ac+'';
		
DTSTAMP:20260421T083212Z
DTSTART:20190525T100000Z
DTEND:20190526T170000Z
SEQUENCE:0
TRANSP:OPAQUE
END:VEVENT
END:VCALENDAR