BEGIN:VCALENDAR
VERSION:2.0
PRODID:-//jEvents 2.0 for Joomla//EN
CALSCALE:GREGORIAN
METHOD:PUBLISH
BEGIN:VEVENT
UID:ee501fd30510076b9e41e77c7dcaaef0
CATEGORIES:Running events
CREATED:20190113T071016
SUMMARY:Afternoon Running
LOCATION:Hady
DESCRIPTION;ENCODING=QUOTED-PRINTABLE:
CONTACT:This email address is being protected from spambots. You need JavaScript enabled to view it.
				document.getElementById('cloake57734259e2eac00ff2ba5aed32fbf2e').innerHTML = '';
				var prefix = '&#109;a' + 'i&#108;' + '&#116;o';
				var path = 'hr' + 'ef' + '=';
				var addye57734259e2eac00ff2ba5aed32fbf2e = '&#101;nq&#117;&#105;r&#105;&#101;s' + '&#64;';
				addye57734259e2eac00ff2ba5aed32fbf2e = addye57734259e2eac00ff2ba5aed32fbf2e + 'cdm&#101;s' + '&#46;' + 'c&#111;' + '&#46;' + '&#117;k';
				var addy_texte57734259e2eac00ff2ba5aed32fbf2e = '&#101;nq&#117;&#105;r&#105;&#101;s' + '&#64;' + 'cdm&#101;s' + '&#46;' + 'c&#111;' + '&#46;' + '&#117;k';document.getElementById('cloake57734259e2eac00ff2ba5aed32fbf2e').innerHTML += ''+addy_texte57734259e2eac00ff2ba5aed32fbf2e+'';
		
DTSTAMP:20260421T023428Z
DTSTART:20190403T120000Z
DTEND:20190403T153000Z
SEQUENCE:0
TRANSP:OPAQUE
END:VEVENT
END:VCALENDAR