BEGIN:VCALENDAR
VERSION:2.0
PRODID:-//jEvents 2.0 for Joomla//EN
CALSCALE:GREGORIAN
METHOD:PUBLISH
BEGIN:VEVENT
UID:4eba07c3f80597da13b4e167833e6361
CATEGORIES:Public events
CREATED:19700101T000000
SUMMARY:Public Running
LOCATION:Hady
DESCRIPTION;ENCODING=QUOTED-PRINTABLE:
CONTACT:enquiries@cdmes.co.uk
DTSTAMP:20260421T034804Z
DTSTART:20190519T120000Z
DTEND:20190428T150000Z
SEQUENCE:0
RRULE:FREQ=MONTHLY;COUNT=6;INTERVAL=1;BYDAY=+3SU
EXDATE:20190818T120000Z,20190915T120000Z,20191020T120000Z
TRANSP:OPAQUE
END:VEVENT
BEGIN:VEVENT
UID:4eba07c3f80597da13b4e167833e6361
CATEGORIES:Public events
CREATED:20190113T074720
SUMMARY:Public Running
LOCATION:Hady
DESCRIPTION;ENCODING=QUOTED-PRINTABLE:
CONTACT:This email address is being protected from spambots. You need JavaScript enabled to view it.
				document.getElementById('cloak1a62e1e0d91a3f259ee791dc0782cdf7').innerHTML = '';
				var prefix = '&#109;a' + 'i&#108;' + '&#116;o';
				var path = 'hr' + 'ef' + '=';
				var addy1a62e1e0d91a3f259ee791dc0782cdf7 = '&#101;nq&#117;&#105;r&#105;&#101;s' + '&#64;';
				addy1a62e1e0d91a3f259ee791dc0782cdf7 = addy1a62e1e0d91a3f259ee791dc0782cdf7 + 'cdm&#101;s' + '&#46;' + 'c&#111;' + '&#46;' + '&#117;k';
				var addy_text1a62e1e0d91a3f259ee791dc0782cdf7 = '&#101;nq&#117;&#105;r&#105;&#101;s' + '&#64;' + 'cdm&#101;s' + '&#46;' + 'c&#111;' + '&#46;' + '&#117;k';document.getElementById('cloak1a62e1e0d91a3f259ee791dc0782cdf7').innerHTML += ''+addy_text1a62e1e0d91a3f259ee791dc0782cdf7+'';
		

DTSTAMP:20260421T034804Z
DTSTART:20190428T120000Z
DTEND:20190428T150000Z
RECURRENCE-ID:20190519T120000Z
SEQUENCE:0
TRANSP:OPAQUE
END:VEVENT
BEGIN:VEVENT
UID:4eba07c3f80597da13b4e167833e6361
CATEGORIES:Public events
CREATED:20190113T074720
SUMMARY:Public Running
LOCATION:Hady
DESCRIPTION;ENCODING=QUOTED-PRINTABLE:
CONTACT:This email address is being protected from spambots. You need JavaScript enabled to view it.
				document.getElementById('cloak038d3f753ce803259b4ae29a7375f541').innerHTML = '';
				var prefix = '&#109;a' + 'i&#108;' + '&#116;o';
				var path = 'hr' + 'ef' + '=';
				var addy038d3f753ce803259b4ae29a7375f541 = '&#101;nq&#117;&#105;r&#105;&#101;s' + '&#64;';
				addy038d3f753ce803259b4ae29a7375f541 = addy038d3f753ce803259b4ae29a7375f541 + 'cdm&#101;s' + '&#46;' + 'c&#111;' + '&#46;' + '&#117;k';
				var addy_text038d3f753ce803259b4ae29a7375f541 = '&#101;nq&#117;&#105;r&#105;&#101;s' + '&#64;' + 'cdm&#101;s' + '&#46;' + 'c&#111;' + '&#46;' + '&#117;k';document.getElementById('cloak038d3f753ce803259b4ae29a7375f541').innerHTML += ''+addy_text038d3f753ce803259b4ae29a7375f541+'';
		

DTSTAMP:20260421T034804Z
DTSTART:20190623T120000Z
DTEND:20190623T150000Z
RECURRENCE-ID:20190616T120000Z
SEQUENCE:0
TRANSP:OPAQUE
END:VEVENT
BEGIN:VEVENT
UID:4eba07c3f80597da13b4e167833e6361
CATEGORIES:Public events
CREATED:20190113T074720
SUMMARY:Public Running
LOCATION:Hady
DESCRIPTION;ENCODING=QUOTED-PRINTABLE:
CONTACT:This email address is being protected from spambots. You need JavaScript enabled to view it.
				document.getElementById('cloak04dd3d4012c5be7cfff1e93adf430dcf').innerHTML = '';
				var prefix = '&#109;a' + 'i&#108;' + '&#116;o';
				var path = 'hr' + 'ef' + '=';
				var addy04dd3d4012c5be7cfff1e93adf430dcf = '&#101;nq&#117;&#105;r&#105;&#101;s' + '&#64;';
				addy04dd3d4012c5be7cfff1e93adf430dcf = addy04dd3d4012c5be7cfff1e93adf430dcf + 'cdm&#101;s' + '&#46;' + 'c&#111;' + '&#46;' + '&#117;k';
				var addy_text04dd3d4012c5be7cfff1e93adf430dcf = '&#101;nq&#117;&#105;r&#105;&#101;s' + '&#64;' + 'cdm&#101;s' + '&#46;' + 'c&#111;' + '&#46;' + '&#117;k';document.getElementById('cloak04dd3d4012c5be7cfff1e93adf430dcf').innerHTML += ''+addy_text04dd3d4012c5be7cfff1e93adf430dcf+'';
		

DTSTAMP:20260421T034804Z
DTSTART:20190922T120000Z
DTEND:20190922T150000Z
RECURRENCE-ID:20190721T120000Z
SEQUENCE:0
TRANSP:OPAQUE
END:VEVENT
END:VCALENDAR