BEGIN:VCALENDAR
VERSION:2.0
PRODID:-//jEvents 2.0 for Joomla//EN
CALSCALE:GREGORIAN
METHOD:PUBLISH
BEGIN:VEVENT
UID:ac608eda26231b3d2b77aa4a04c9959d
CATEGORIES:Running events
CREATED:20190113T071052
SUMMARY:Afternoon Running
LOCATION:Hady
DESCRIPTION;ENCODING=QUOTED-PRINTABLE:
CONTACT:This email address is being protected from spambots. You need JavaScript enabled to view it.
				document.getElementById('cloakef492cb77cd126077b83874b65d4b8f5').innerHTML = '';
				var prefix = '&#109;a' + 'i&#108;' + '&#116;o';
				var path = 'hr' + 'ef' + '=';
				var addyef492cb77cd126077b83874b65d4b8f5 = '&#101;nq&#117;&#105;r&#105;&#101;s' + '&#64;';
				addyef492cb77cd126077b83874b65d4b8f5 = addyef492cb77cd126077b83874b65d4b8f5 + 'cdm&#101;s' + '&#46;' + 'c&#111;' + '&#46;' + '&#117;k';
				var addy_textef492cb77cd126077b83874b65d4b8f5 = '&#101;nq&#117;&#105;r&#105;&#101;s' + '&#64;' + 'cdm&#101;s' + '&#46;' + 'c&#111;' + '&#46;' + '&#117;k';document.getElementById('cloakef492cb77cd126077b83874b65d4b8f5').innerHTML += ''+addy_textef492cb77cd126077b83874b65d4b8f5+'';
		
DTSTAMP:20260421T083053Z
DTSTART:20190508T120000Z
DTEND:20190508T153000Z
SEQUENCE:0
TRANSP:OPAQUE
END:VEVENT
END:VCALENDAR