BEGIN:VCALENDAR
VERSION:2.0
PRODID:-//jEvents 2.0 for Joomla//EN
CALSCALE:GREGORIAN
METHOD:PUBLISH
BEGIN:VEVENT
UID:df5d78c9db625ed56ede3d17f410db3e
CATEGORIES:Running events
CREATED:19700101T000000
SUMMARY:Running Day
LOCATION:Hady
DESCRIPTION;ENCODING=QUOTED-PRINTABLE:
CONTACT:enquiries@cdmes.co.uk
DTSTAMP:20260421T030018Z
DTSTART:20190126T120000Z
DTEND:20190126T153000Z
SEQUENCE:0
RRULE:FREQ=MONTHLY;COUNT=10;INTERVAL=1;BYDAY=+4SA
EXDATE:20190525T120000Z,20190928T120000Z
TRANSP:OPAQUE
END:VEVENT
BEGIN:VEVENT
UID:df5d78c9db625ed56ede3d17f410db3e
CATEGORIES:Running events
CREATED:20190113T075118
SUMMARY:Running Day
LOCATION:Hady
DESCRIPTION;ENCODING=QUOTED-PRINTABLE:
CONTACT:This email address is being protected from spambots. You need JavaScript enabled to view it.
				document.getElementById('cloakca9e0e433c5cca1896fd87f4d7886774').innerHTML = '';
				var prefix = '&#109;a' + 'i&#108;' + '&#116;o';
				var path = 'hr' + 'ef' + '=';
				var addyca9e0e433c5cca1896fd87f4d7886774 = '&#101;nq&#117;&#105;r&#105;&#101;s' + '&#64;';
				addyca9e0e433c5cca1896fd87f4d7886774 = addyca9e0e433c5cca1896fd87f4d7886774 + 'cdm&#101;s' + '&#46;' + 'c&#111;' + '&#46;' + '&#117;k';
				var addy_textca9e0e433c5cca1896fd87f4d7886774 = '&#101;nq&#117;&#105;r&#105;&#101;s' + '&#64;' + 'cdm&#101;s' + '&#46;' + 'c&#111;' + '&#46;' + '&#117;k';document.getElementById('cloakca9e0e433c5cca1896fd87f4d7886774').innerHTML += ''+addy_textca9e0e433c5cca1896fd87f4d7886774+'';
		

DTSTAMP:20260421T030018Z
DTSTART:20190420T120000Z
DTEND:20190420T153000Z
RECURRENCE-ID:20190427T120000Z
SEQUENCE:0
TRANSP:OPAQUE
END:VEVENT
BEGIN:VEVENT
UID:df5d78c9db625ed56ede3d17f410db3e
CATEGORIES:Running events
CREATED:20190113T075118
SUMMARY:Running Day
LOCATION:Hady
DESCRIPTION;ENCODING=QUOTED-PRINTABLE:
CONTACT:This email address is being protected from spambots. You need JavaScript enabled to view it.
				document.getElementById('cloak986d4504c0fd14bcfba594ebad23f870').innerHTML = '';
				var prefix = '&#109;a' + 'i&#108;' + '&#116;o';
				var path = 'hr' + 'ef' + '=';
				var addy986d4504c0fd14bcfba594ebad23f870 = '&#101;nq&#117;&#105;r&#105;&#101;s' + '&#64;';
				addy986d4504c0fd14bcfba594ebad23f870 = addy986d4504c0fd14bcfba594ebad23f870 + 'cdm&#101;s' + '&#46;' + 'c&#111;' + '&#46;' + '&#117;k';
				var addy_text986d4504c0fd14bcfba594ebad23f870 = '&#101;nq&#117;&#105;r&#105;&#101;s' + '&#64;' + 'cdm&#101;s' + '&#46;' + 'c&#111;' + '&#46;' + '&#117;k';document.getElementById('cloak986d4504c0fd14bcfba594ebad23f870').innerHTML += ''+addy_text986d4504c0fd14bcfba594ebad23f870+'';
		

DTSTAMP:20260421T030018Z
DTSTART:20190720T120000Z
DTEND:20190720T153000Z
RECURRENCE-ID:20190727T120000Z
SEQUENCE:0
TRANSP:OPAQUE
END:VEVENT
BEGIN:VEVENT
UID:df5d78c9db625ed56ede3d17f410db3e
CATEGORIES:Running events
CREATED:20190113T075118
SUMMARY:Running Day
LOCATION:Hady
DESCRIPTION;ENCODING=QUOTED-PRINTABLE:
CONTACT:This email address is being protected from spambots. You need JavaScript enabled to view it.
				document.getElementById('cloakd03abe1c869ccf05ce8dd148e2cdb910').innerHTML = '';
				var prefix = '&#109;a' + 'i&#108;' + '&#116;o';
				var path = 'hr' + 'ef' + '=';
				var addyd03abe1c869ccf05ce8dd148e2cdb910 = '&#101;nq&#117;&#105;r&#105;&#101;s' + '&#64;';
				addyd03abe1c869ccf05ce8dd148e2cdb910 = addyd03abe1c869ccf05ce8dd148e2cdb910 + 'cdm&#101;s' + '&#46;' + 'c&#111;' + '&#46;' + '&#117;k';
				var addy_textd03abe1c869ccf05ce8dd148e2cdb910 = '&#101;nq&#117;&#105;r&#105;&#101;s' + '&#64;' + 'cdm&#101;s' + '&#46;' + 'c&#111;' + '&#46;' + '&#117;k';document.getElementById('cloakd03abe1c869ccf05ce8dd148e2cdb910').innerHTML += ''+addy_textd03abe1c869ccf05ce8dd148e2cdb910+'';
		

DTSTAMP:20260421T030018Z
DTSTART:20191019T120000Z
DTEND:20191019T153000Z
RECURRENCE-ID:20191026T120000Z
SEQUENCE:0
TRANSP:OPAQUE
END:VEVENT
BEGIN:VEVENT
UID:df5d78c9db625ed56ede3d17f410db3e
CATEGORIES:Running events
CREATED:20190113T075118
SUMMARY:Running Day
LOCATION:Hady
DESCRIPTION;ENCODING=QUOTED-PRINTABLE:
CONTACT:This email address is being protected from spambots. You need JavaScript enabled to view it.
				document.getElementById('cloaka61ebbb8ed80290bb83e5fb27bb0a9af').innerHTML = '';
				var prefix = '&#109;a' + 'i&#108;' + '&#116;o';
				var path = 'hr' + 'ef' + '=';
				var addya61ebbb8ed80290bb83e5fb27bb0a9af = '&#101;nq&#117;&#105;r&#105;&#101;s' + '&#64;';
				addya61ebbb8ed80290bb83e5fb27bb0a9af = addya61ebbb8ed80290bb83e5fb27bb0a9af + 'cdm&#101;s' + '&#46;' + 'c&#111;' + '&#46;' + '&#117;k';
				var addy_texta61ebbb8ed80290bb83e5fb27bb0a9af = '&#101;nq&#117;&#105;r&#105;&#101;s' + '&#64;' + 'cdm&#101;s' + '&#46;' + 'c&#111;' + '&#46;' + '&#117;k';document.getElementById('cloaka61ebbb8ed80290bb83e5fb27bb0a9af').innerHTML += ''+addy_texta61ebbb8ed80290bb83e5fb27bb0a9af+'';
		

DTSTAMP:20260421T030018Z
DTSTART:20190119T120000Z
DTEND:20190119T153000Z
RECURRENCE-ID:20190126T120000Z
SEQUENCE:0
TRANSP:OPAQUE
END:VEVENT
END:VCALENDAR