BEGIN:VCALENDAR
VERSION:2.0
PRODID:-//jEvents 2.0 for Joomla//EN
CALSCALE:GREGORIAN
METHOD:PUBLISH
BEGIN:VEVENT
UID:df5d78c9db625ed56ede3d17f410db3e
CATEGORIES:Running events
CREATED:20190113T075118
SUMMARY:Running Day
LOCATION:Hady
DESCRIPTION;ENCODING=QUOTED-PRINTABLE:
CONTACT:This email address is being protected from spambots. You need JavaScript enabled to view it.
				document.getElementById('cloak1c156b921d657d045c122a936ee06fab').innerHTML = '';
				var prefix = '&#109;a' + 'i&#108;' + '&#116;o';
				var path = 'hr' + 'ef' + '=';
				var addy1c156b921d657d045c122a936ee06fab = '&#101;nq&#117;&#105;r&#105;&#101;s' + '&#64;';
				addy1c156b921d657d045c122a936ee06fab = addy1c156b921d657d045c122a936ee06fab + 'cdm&#101;s' + '&#46;' + 'c&#111;' + '&#46;' + '&#117;k';
				var addy_text1c156b921d657d045c122a936ee06fab = '&#101;nq&#117;&#105;r&#105;&#101;s' + '&#64;' + 'cdm&#101;s' + '&#46;' + 'c&#111;' + '&#46;' + '&#117;k';document.getElementById('cloak1c156b921d657d045c122a936ee06fab').innerHTML += ''+addy_text1c156b921d657d045c122a936ee06fab+'';
		
DTSTAMP:20260421T054357Z
DTSTART:20190727T120000Z
DTEND:20190727T153000Z
SEQUENCE:0
TRANSP:OPAQUE
END:VEVENT
END:VCALENDAR