BEGIN:VCALENDAR
VERSION:2.0
PRODID:-//jEvents 2.0 for Joomla//EN
CALSCALE:GREGORIAN
METHOD:PUBLISH
BEGIN:VEVENT
UID:df5d78c9db625ed56ede3d17f410db3e
CATEGORIES:Running events
CREATED:20190113T075118
SUMMARY:Running Day
LOCATION:Hady
DESCRIPTION;ENCODING=QUOTED-PRINTABLE:
CONTACT:This email address is being protected from spambots. You need JavaScript enabled to view it.
				document.getElementById('cloakc88f1d72b05e5618284b8205f3cad408').innerHTML = '';
				var prefix = '&#109;a' + 'i&#108;' + '&#116;o';
				var path = 'hr' + 'ef' + '=';
				var addyc88f1d72b05e5618284b8205f3cad408 = '&#101;nq&#117;&#105;r&#105;&#101;s' + '&#64;';
				addyc88f1d72b05e5618284b8205f3cad408 = addyc88f1d72b05e5618284b8205f3cad408 + 'cdm&#101;s' + '&#46;' + 'c&#111;' + '&#46;' + '&#117;k';
				var addy_textc88f1d72b05e5618284b8205f3cad408 = '&#101;nq&#117;&#105;r&#105;&#101;s' + '&#64;' + 'cdm&#101;s' + '&#46;' + 'c&#111;' + '&#46;' + '&#117;k';document.getElementById('cloakc88f1d72b05e5618284b8205f3cad408').innerHTML += ''+addy_textc88f1d72b05e5618284b8205f3cad408+'';
		
DTSTAMP:20260421T071341Z
DTSTART:20190824T120000Z
DTEND:20190824T153000Z
SEQUENCE:0
TRANSP:OPAQUE
END:VEVENT
END:VCALENDAR