BEGIN:VCALENDAR
VERSION:2.0
PRODID:-//jEvents 2.0 for Joomla//EN
CALSCALE:GREGORIAN
METHOD:PUBLISH
BEGIN:VEVENT
UID:bca96455aeb061971c041c52ec01bc75
CATEGORIES:Public events
CREATED:20200913T152416
SUMMARY:Coronavirus
DESCRIPTION;ENCODING=QUOTED-PRINTABLE:<p>Site currently closed due top Coronavirus Restrictions.</p>
DTSTAMP:20260420T160127Z
DTSTART:20210410T000100Z
DTEND:20210410T235900Z
SEQUENCE:0
TRANSP:OPAQUE
END:VEVENT
END:VCALENDAR