BEGIN:VCALENDAR
VERSION:2.0
PRODID:-//jEvents 2.0 for Joomla//EN
CALSCALE:GREGORIAN
METHOD:PUBLISH
BEGIN:VEVENT
UID:c5819a62eaba9638ed71cea4eabf6166
CATEGORIES:Running events
CREATED:20190113T071906
SUMMARY:Arctic Runnining
LOCATION:Hady
DESCRIPTION;ENCODING=QUOTED-PRINTABLE:
CONTACT:This email address is being protected from spambots. You need JavaScript enabled to view it.
				document.getElementById('cloak157b13d0c857c2b442aad071c0ac46ce').innerHTML = '';
				var prefix = '&#109;a' + 'i&#108;' + '&#116;o';
				var path = 'hr' + 'ef' + '=';
				var addy157b13d0c857c2b442aad071c0ac46ce = '&#101;nq&#117;&#105;r&#105;&#101;s' + '&#64;';
				addy157b13d0c857c2b442aad071c0ac46ce = addy157b13d0c857c2b442aad071c0ac46ce + 'cdm&#101;s' + '&#46;' + 'c&#111;' + '&#46;' + '&#117;k';
				var addy_text157b13d0c857c2b442aad071c0ac46ce = '&#101;nq&#117;&#105;r&#105;&#101;s' + '&#64;' + 'cdm&#101;s' + '&#46;' + 'c&#111;' + '&#46;' + '&#117;k';document.getElementById('cloak157b13d0c857c2b442aad071c0ac46ce').innerHTML += ''+addy_text157b13d0c857c2b442aad071c0ac46ce+'';
		
DTSTAMP:20260420T220804Z
DTSTART:20190101T100000Z
DTEND:20190101T170000Z
SEQUENCE:0
TRANSP:OPAQUE
END:VEVENT
END:VCALENDAR