BEGIN:VCALENDAR
VERSION:2.0
PRODID:-//jEvents 2.0 for Joomla//EN
CALSCALE:GREGORIAN
METHOD:PUBLISH
BEGIN:VEVENT
UID:c5819a62eaba9638ed71cea4eabf6166
CATEGORIES:Running events
CREATED:20190113T071906
SUMMARY:Arctic Runnining
LOCATION:Hady
DESCRIPTION;ENCODING=QUOTED-PRINTABLE:
CONTACT:This email address is being protected from spambots. You need JavaScript enabled to view it.
				document.getElementById('cloake83994420774c26799bc4ba686a3de6a').innerHTML = '';
				var prefix = '&#109;a' + 'i&#108;' + '&#116;o';
				var path = 'hr' + 'ef' + '=';
				var addye83994420774c26799bc4ba686a3de6a = '&#101;nq&#117;&#105;r&#105;&#101;s' + '&#64;';
				addye83994420774c26799bc4ba686a3de6a = addye83994420774c26799bc4ba686a3de6a + 'cdm&#101;s' + '&#46;' + 'c&#111;' + '&#46;' + '&#117;k';
				var addy_texte83994420774c26799bc4ba686a3de6a = '&#101;nq&#117;&#105;r&#105;&#101;s' + '&#64;' + 'cdm&#101;s' + '&#46;' + 'c&#111;' + '&#46;' + '&#117;k';document.getElementById('cloake83994420774c26799bc4ba686a3de6a').innerHTML += ''+addy_texte83994420774c26799bc4ba686a3de6a+'';
		
DTSTAMP:20260420T203045Z
DTSTART:20200101T100000Z
DTEND:20200101T170000Z
SEQUENCE:0
TRANSP:OPAQUE
END:VEVENT
END:VCALENDAR