BEGIN:VCALENDAR
VERSION:2.0
PRODID:-//jEvents 2.0 for Joomla//EN
CALSCALE:GREGORIAN
METHOD:PUBLISH
BEGIN:VEVENT
UID:c5819a62eaba9638ed71cea4eabf6166
CATEGORIES:Running events
CREATED:20190113T071906
SUMMARY:Arctic Runnining
LOCATION:Hady
DESCRIPTION;ENCODING=QUOTED-PRINTABLE:
CONTACT:This email address is being protected from spambots. You need JavaScript enabled to view it.
				document.getElementById('cloakc0e9168bfe05036120c152eda0991dc6').innerHTML = '';
				var prefix = '&#109;a' + 'i&#108;' + '&#116;o';
				var path = 'hr' + 'ef' + '=';
				var addyc0e9168bfe05036120c152eda0991dc6 = '&#101;nq&#117;&#105;r&#105;&#101;s' + '&#64;';
				addyc0e9168bfe05036120c152eda0991dc6 = addyc0e9168bfe05036120c152eda0991dc6 + 'cdm&#101;s' + '&#46;' + 'c&#111;' + '&#46;' + '&#117;k';
				var addy_textc0e9168bfe05036120c152eda0991dc6 = '&#101;nq&#117;&#105;r&#105;&#101;s' + '&#64;' + 'cdm&#101;s' + '&#46;' + 'c&#111;' + '&#46;' + '&#117;k';document.getElementById('cloakc0e9168bfe05036120c152eda0991dc6').innerHTML += ''+addy_textc0e9168bfe05036120c152eda0991dc6+'';
		
DTSTAMP:20260420T185356Z
DTSTART:20210101T100000Z
DTEND:20210101T170000Z
SEQUENCE:0
TRANSP:OPAQUE
END:VEVENT
END:VCALENDAR