BEGIN:VCALENDAR
VERSION:2.0
PRODID:-//jEvents 2.0 for Joomla//EN
CALSCALE:GREGORIAN
METHOD:PUBLISH
BEGIN:VEVENT
UID:4eba07c3f80597da13b4e167833e6361
CATEGORIES:Public events
CREATED:20190113T074720
SUMMARY:Public Running
LOCATION:Hady
DESCRIPTION;ENCODING=QUOTED-PRINTABLE:
CONTACT:This email address is being protected from spambots. You need JavaScript enabled to view it.
				document.getElementById('cloak00fdc3e58e9f3c1329467fb12aa6f358').innerHTML = '';
				var prefix = '&#109;a' + 'i&#108;' + '&#116;o';
				var path = 'hr' + 'ef' + '=';
				var addy00fdc3e58e9f3c1329467fb12aa6f358 = '&#101;nq&#117;&#105;r&#105;&#101;s' + '&#64;';
				addy00fdc3e58e9f3c1329467fb12aa6f358 = addy00fdc3e58e9f3c1329467fb12aa6f358 + 'cdm&#101;s' + '&#46;' + 'c&#111;' + '&#46;' + '&#117;k';
				var addy_text00fdc3e58e9f3c1329467fb12aa6f358 = '&#101;nq&#117;&#105;r&#105;&#101;s' + '&#64;' + 'cdm&#101;s' + '&#46;' + 'c&#111;' + '&#46;' + '&#117;k';document.getElementById('cloak00fdc3e58e9f3c1329467fb12aa6f358').innerHTML += ''+addy_text00fdc3e58e9f3c1329467fb12aa6f358+'';
		
DTSTAMP:20260421T034702Z
DTSTART:20190616T120000Z
DTEND:20190623T150000Z
SEQUENCE:0
TRANSP:OPAQUE
END:VEVENT
END:VCALENDAR